BEGIN:VCALENDAR
PRODID:-//Pixl8//Eventfolio//EN
VERSION:2.0
X-WR-TIMEZONE:Europe/London
CALSCALE:GREGORIAN
METHOD:PUBLISH
CLASS:PUBLIC
BEGIN:VTIMEZONE
TZID:Europe/London
LAST-MODIFIED:20260306T231828Z
TZURL:https://www.tzurl.org/zoneinfo-outlook/Europe/London
X-LIC-LOCATION:Europe/London
BEGIN:DAYLIGHT
TZNAME:BST
TZOFFSETFROM:+0000
TZOFFSETTO:+0100
DTSTART:19700329T010000
RRULE:FREQ=YEARLY;BYMONTH=3;BYDAY=-1SU
END:DAYLIGHT
BEGIN:STANDARD
TZNAME:GMT
TZOFFSETFROM:+0100
TZOFFSETTO:+0000
DTSTART:19701025T020000
RRULE:FREQ=YEARLY;BYMONTH=10;BYDAY=-1SU
END:STANDARD
END:VTIMEZONE
BEGIN:VEVENT
DTSTART;TZID=Europe/London:20260326T173000
DTEND;TZID=Europe/London:20260326T190000
DTSTAMP:20260426T010830Z
UID:{4F8DF612-6A55-4AED-825734945281ADB2}
LOCATION:The Seven Stars - ST17 0SU\, Cannock Road\, Stafford\, ST17 0SU
SUMMARY:Stafford Business Together
DESCRIPTION:Event details: https://my.staffordshirechambers.co.uk/events-training/event-calendar/stafford-business-together-26mar.html
PRIORITY:1
END:VEVENT
END:VCALENDAR