BEGIN:VCALENDAR
PRODID:-//Pixl8//Eventfolio//EN
VERSION:2.0
X-WR-TIMEZONE:Europe/London
CALSCALE:GREGORIAN
METHOD:PUBLISH
CLASS:PUBLIC
BEGIN:VTIMEZONE
TZID:Europe/London
LAST-MODIFIED:20260306T231828Z
TZURL:https://www.tzurl.org/zoneinfo-outlook/Europe/London
X-LIC-LOCATION:Europe/London
BEGIN:DAYLIGHT
TZNAME:BST
TZOFFSETFROM:+0000
TZOFFSETTO:+0100
DTSTART:19700329T010000
RRULE:FREQ=YEARLY;BYMONTH=3;BYDAY=-1SU
END:DAYLIGHT
BEGIN:STANDARD
TZNAME:GMT
TZOFFSETFROM:+0100
TZOFFSETTO:+0000
DTSTART:19701025T020000
RRULE:FREQ=YEARLY;BYMONTH=10;BYDAY=-1SU
END:STANDARD
END:VTIMEZONE
BEGIN:VEVENT
DTSTART;TZID=Europe/London:20260506T093000
DTEND;TZID=Europe/London:20260506T123000
DTSTAMP:20260424T182900Z
UID:{E86AA212-0C11-4804-B7DE8B10AFC2E82E}
LOCATION:Leek Building Society - ST13 5DL\, 50 ST Edwards Street\, Leek\, Staffordshire
SUMMARY:Moorlands Business Hub
DESCRIPTION:Event details: https://my.staffordshirechambers.co.uk/events-training/event-calendar/moorlands-business-hub.html
PRIORITY:1
END:VEVENT
END:VCALENDAR