BEGIN:VCALENDAR
PRODID:-//Pixl8//Eventfolio//EN
VERSION:2.0
X-WR-TIMEZONE:Europe/London
CALSCALE:GREGORIAN
METHOD:PUBLISH
CLASS:PUBLIC
BEGIN:VTIMEZONE
TZID:Europe/London
LAST-MODIFIED:20260306T231828Z
TZURL:https://www.tzurl.org/zoneinfo-outlook/Europe/London
X-LIC-LOCATION:Europe/London
BEGIN:DAYLIGHT
TZNAME:BST
TZOFFSETFROM:+0000
TZOFFSETTO:+0100
DTSTART:19700329T010000
RRULE:FREQ=YEARLY;BYMONTH=3;BYDAY=-1SU
END:DAYLIGHT
BEGIN:STANDARD
TZNAME:GMT
TZOFFSETFROM:+0100
TZOFFSETTO:+0000
DTSTART:19701025T020000
RRULE:FREQ=YEARLY;BYMONTH=10;BYDAY=-1SU
END:STANDARD
END:VTIMEZONE
BEGIN:VEVENT
DTSTART;TZID=Europe/London:20260423T093000
DTEND;TZID=Europe/London:20260423T110000
DTSTAMP:20260423T031429Z
UID:{5E35536F-98D7-4420-B98BF14CBC6D9D35}
LOCATION:Staffordshire Chambers of Commerce - ST1 5BE\, Commerce House\, Festival Park\, ST1 5BE
SUMMARY:King's Award for Enterprise - Find Out More Session
DESCRIPTION:Event details: https://my.staffordshirechambers.co.uk/events-training/event-calendar/king-s-award-for-enterprise-find-out-more-session-23apr.html
PRIORITY:1
END:VEVENT
END:VCALENDAR