BEGIN:VCALENDAR
PRODID:-//Pixl8//Eventfolio//EN
VERSION:2.0
X-WR-TIMEZONE:Europe/London
CALSCALE:GREGORIAN
METHOD:PUBLISH
CLASS:PUBLIC
BEGIN:VTIMEZONE
TZID:Europe/London
LAST-MODIFIED:20260306T231828Z
TZURL:https://www.tzurl.org/zoneinfo-outlook/Europe/London
X-LIC-LOCATION:Europe/London
BEGIN:DAYLIGHT
TZNAME:BST
TZOFFSETFROM:+0000
TZOFFSETTO:+0100
DTSTART:19700329T010000
RRULE:FREQ=YEARLY;BYMONTH=3;BYDAY=-1SU
END:DAYLIGHT
BEGIN:STANDARD
TZNAME:GMT
TZOFFSETFROM:+0100
TZOFFSETTO:+0000
DTSTART:19701025T020000
RRULE:FREQ=YEARLY;BYMONTH=10;BYDAY=-1SU
END:STANDARD
END:VTIMEZONE
BEGIN:VEVENT
DTSTART;TZID=Europe/London:20250227T093000
DTEND;TZID=Europe/London:20250227T160000
DTSTAMP:20260423T071102Z
UID:{85C0B10C-197D-42B8-B5E68BBEFE0151CF}
LOCATION:Stafford Rugby Club - ST16 2TT\, Blackberry Lane\, Stafford\, ST16 2TT
SUMMARY:Domestic Abuse - Workplace Champion Training
DESCRIPTION:Event details: https://my.staffordshirechambers.co.uk/events-training/event-calendar/domestic-abuse-workplace-champion-training-feb25.html
PRIORITY:1
END:VEVENT
END:VCALENDAR